BEGIN:VCALENDAR
VERSION:2.0
CALSCALE:GREGORIAN
PRODID:-//Diputació de Barcelona//DibaCMS//EN
BEGIN:VEVENT
UID:57616
DTSTAMP:20260420T025710
DTSTART:20240718T180000
DTEND:20240718T180000
SUMMARY:Joc familiar "Bibliojoc de l'Ot el bruixot"
LOCATION:Av. Pau Casals, 26 08450 Llinars del Vallès
METHOD:PUBLISH
X-WR-CALNAME:info@llinarsdelvalles.cat
X-WR-TIMEZONE:Europe/Madrid
DESCRIPTION:A càrrec de Gest Lúdic l'Obrador.

URI:https://www.llinarsdelvalles.cat/actualitat/agenda/joc-familiar-bibliojoc-de-lot-el-bruixot.html
CLASS:PUBLIC
END:VEVENT
END:VCALENDAR
