BEGIN:VCALENDAR
VERSION:2.0
CALSCALE:GREGORIAN
PRODID:-//Diputació de Barcelona//DibaCMS//EN
BEGIN:VEVENT
UID:57618
DTSTAMP:20260420T024722
DTSTART:20240719T000000
DTEND:20240721T000000
SUMMARY:Festa Major de Can Boatell
LOCATION:08450 Llinars del Vallès
METHOD:PUBLISH
X-WR-CALNAME:info@llinarsdelvalles.cat
X-WR-TIMEZONE:Europe/Madrid
DESCRIPTION:
URI:https://www.llinarsdelvalles.cat/actualitat/agenda/57618-festa-major-de-can-boatell.html
CLASS:PUBLIC
END:VEVENT
END:VCALENDAR
