BEGIN:VCALENDAR
VERSION:2.0
CALSCALE:GREGORIAN
PRODID:-//Diputació de Barcelona//DibaCMS//EN
BEGIN:VEVENT
UID:57619
DTSTAMP:20260420T090653
DTSTART:20240714T120000
DTEND:20240714T120000
SUMMARY:Cicle de Concerts a Sanata "Myrten"
LOCATION:Ronda Sant Antoni, 19 08450 Llinars del Vallès
METHOD:PUBLISH
X-WR-CALNAME:info@llinarsdelvalles.cat
X-WR-TIMEZONE:Europe/Madrid
DESCRIPTION:La soprano Júlia Farrés-Llongueras, el baríton Elías Arranz i el pianista Daniel Blanch ens oferiran ''Myrten'', un concert amb cançons de Robert Schumann sobre poemes de Goethe, Heine, Byron, Rückert, Burns, Körner, Willemer, Moore, Famshawe i Mosen.

URI:https://www.llinarsdelvalles.cat/actualitat/agenda/cicle-de-concerts-a-sanata-myrten.html
CLASS:PUBLIC
END:VEVENT
END:VCALENDAR
