BEGIN:VCALENDAR
VERSION:2.0
CALSCALE:GREGORIAN
PRODID:-//Diputació de Barcelona//DibaCMS//EN
BEGIN:VEVENT
UID:57620
DTSTAMP:20260420T025624
DTSTART:20240803T000000
DTEND:20240804T000000
SUMMARY:Festa Major de Sant Esteve del Coll
LOCATION:08450 Llinars del Vallès
METHOD:PUBLISH
X-WR-CALNAME:info@llinarsdelvalles.cat
X-WR-TIMEZONE:Europe/Madrid
DESCRIPTION:
URI:https://www.llinarsdelvalles.cat/actualitat/agenda/57620-festa-major-de-sant-esteve-del-coll.html
CLASS:PUBLIC
END:VEVENT
END:VCALENDAR
