BEGIN:VCALENDAR
VERSION:2.0
CALSCALE:GREGORIAN
PRODID:-//Diputació de Barcelona//DibaCMS//EN
BEGIN:VEVENT
UID:57621
DTSTAMP:20260420T000657
DTSTART:20240803T000000
DTEND:20240804T000000
SUMMARY:Festa Major de Collsabadell
LOCATION:08450 Llinars del Vallès
METHOD:PUBLISH
X-WR-CALNAME:info@llinarsdelvalles.cat
X-WR-TIMEZONE:Europe/Madrid
DESCRIPTION:
URI:https://www.llinarsdelvalles.cat/actualitat/agenda/57621-festa-major-de-collsabadell.html
CLASS:PUBLIC
END:VEVENT
END:VCALENDAR
