BEGIN:VCALENDAR
VERSION:2.0
CALSCALE:GREGORIAN
PRODID:-//Diputació de Barcelona//DibaCMS//EN
BEGIN:VEVENT
UID:57625
DTSTAMP:20260420T091448
DTSTART:20240723T190000
DTEND:20240723T190000
SUMMARY:Presentació del llibre "El bosc mai no falla" de Martí Boada
LOCATION:08450 Llinars del Vallès
METHOD:PUBLISH
X-WR-CALNAME:info@llinarsdelvalles.cat
X-WR-TIMEZONE:Europe/Madrid
DESCRIPTION:Amb la presència de l'alcalde, Martí Pujol, l'autor i l'editor, Leopoldo Blume.

URI:https://www.llinarsdelvalles.cat/actualitat/agenda/presentacio-del-llibre-el-bosc-mai-no-falla-de-marti-boada.html
CLASS:PUBLIC
END:VEVENT
END:VCALENDAR
