BEGIN:VCALENDAR
VERSION:2.0
CALSCALE:GREGORIAN
PRODID:-//Diputació de Barcelona//DibaCMS//EN
BEGIN:VEVENT
UID:57626
DTSTAMP:20260420T050655
DTSTART:20240724T180000
DTEND:20240724T180000
SUMMARY:No tens curiositat?
LOCATION:Av. Pau Casals, 26 08450 Llinars del Vallès
METHOD:PUBLISH
X-WR-CALNAME:info@llinarsdelvalles.cat
X-WR-TIMEZONE:Europe/Madrid
DESCRIPTION:Aviat ho descobriràs!

URI:https://www.llinarsdelvalles.cat/actualitat/agenda/no-tens-curiositat.html
CLASS:PUBLIC
END:VEVENT
END:VCALENDAR
