BEGIN:VCALENDAR
VERSION:2.0
CALSCALE:GREGORIAN
PRODID:-//Diputació de Barcelona//DibaCMS//EN
BEGIN:VEVENT
UID:57652
DTSTAMP:20260420T035125
DTSTART:20240926T183000
DTEND:20240926T183000
SUMMARY:Presentació km0 - Fi de les pantalles
LOCATION:Av. Pau Casals, 26 08450 Llinars del Vallès
METHOD:PUBLISH
X-WR-CALNAME:info@llinarsdelvalles.cat
X-WR-TIMEZONE:Europe/Madrid
DESCRIPTION:Què hi ha darrera les pantalles i què podem fer per mirar endavant.

URI:https://www.llinarsdelvalles.cat/actualitat/agenda/presentacio-km0-fi-de-les-pantalles.html
CLASS:PUBLIC
END:VEVENT
END:VCALENDAR
