BEGIN:VCALENDAR
VERSION:2.0
CALSCALE:GREGORIAN
PRODID:-//Diputació de Barcelona//DibaCMS//EN
BEGIN:VEVENT
UID:57653
DTSTAMP:20260420T230518
DTSTART:20240903T190000
DTEND:20240903T190000
SUMMARY:Planetari immersiu - Missió La Lluna de l'Apollo 11 (1969) a la missió Artemis (2025-26)
LOCATION:Av. Pau Casals, 26 08450 Llinars del Vallès
METHOD:PUBLISH
X-WR-CALNAME:info@llinarsdelvalles.cat
X-WR-TIMEZONE:Europe/Madrid
DESCRIPTION:A càrrec d'Explora360

URI:https://www.llinarsdelvalles.cat/actualitat/agenda/planetari-immersiu-missio-la-lluna-de-lapollo-11-1969-a-la-missio-artemis-2025-26.html
CLASS:PUBLIC
END:VEVENT
END:VCALENDAR
