BEGIN:VCALENDAR
VERSION:2.0
CALSCALE:GREGORIAN
PRODID:-//Diputació de Barcelona//DibaCMS//EN
BEGIN:VEVENT
UID:57658
DTSTAMP:20260420T012757
DTSTART:20240921T110000
DTEND:20240921T110000
SUMMARY:Presentació km0 - Caminando paraísos; Viajando por Sudamérica
LOCATION:Av. Pau Casals, 26 08450 Llinars del Vallès
METHOD:PUBLISH
X-WR-CALNAME:info@llinarsdelvalles.cat
X-WR-TIMEZONE:Europe/Madrid
DESCRIPTION:A càrrec d'Hernán Brandoni, autor.

URI:https://www.llinarsdelvalles.cat/actualitat/agenda/presentacio-km0-caminando-paraisos-viajando-por-sudamerica.html
CLASS:PUBLIC
END:VEVENT
END:VCALENDAR
