BEGIN:VCALENDAR
VERSION:2.0
CALSCALE:GREGORIAN
PRODID:-//Diputació de Barcelona//DibaCMS//EN
BEGIN:VEVENT
UID:57659
DTSTAMP:20260420T024646
DTSTART:20240924T000000
DTEND:20240924T000000
SUMMARY:Story time - The naughty pancake
LOCATION:Av. Pau Casals, 26 08450 Llinars del Vallès
METHOD:PUBLISH
X-WR-CALNAME:info@llinarsdelvalles.cat
X-WR-TIMEZONE:Europe/Madrid
DESCRIPTION:A càrrec de Cambridge School.

URI:https://www.llinarsdelvalles.cat/actualitat/agenda/story-time-the-naughty-pancake.html
CLASS:PUBLIC
END:VEVENT
END:VCALENDAR
