BEGIN:VCALENDAR
VERSION:2.0
CALSCALE:GREGORIAN
PRODID:-//Diputació de Barcelona//DibaCMS//EN
BEGIN:VEVENT
UID:57660
DTSTAMP:20260420T053508
DTSTART:20240919T180000
DTEND:20240919T200000
SUMMARY:Taller adults - Làmpades de paper 
LOCATION:Av. Pau Casals, 26 08450 Llinars del Vallès
METHOD:PUBLISH
X-WR-CALNAME:info@llinarsdelvalles.cat
X-WR-TIMEZONE:Europe/Madrid
DESCRIPTION:A càrrec de Jorgelina Rasmussen.

URI:https://www.llinarsdelvalles.cat/actualitat/agenda/taller-adults-lampades-de-paper-.html
CLASS:PUBLIC
END:VEVENT
END:VCALENDAR
