BEGIN:VCALENDAR
VERSION:2.0
CALSCALE:GREGORIAN
PRODID:-//Diputació de Barcelona//DibaCMS//EN
BEGIN:VEVENT
UID:57661
DTSTAMP:20260420T144808
DTSTART:20241003T180000
DTEND:20241003T180000
SUMMARY:Taller adults - Làmpades de paper
LOCATION:Av. Pau Casals, 26 08450 Llinars del Vallès
METHOD:PUBLISH
X-WR-CALNAME:info@llinarsdelvalles.cat
X-WR-TIMEZONE:Europe/Madrid
DESCRIPTION:A càrrec de Jorgelina Rasmussen.

URI:https://www.llinarsdelvalles.cat/actualitat/agenda/taller-adults-lampades-de-paper.html
CLASS:PUBLIC
END:VEVENT
END:VCALENDAR
