BEGIN:VCALENDAR
VERSION:2.0
CALSCALE:GREGORIAN
PRODID:-//Diputació de Barcelona//DibaCMS//EN
BEGIN:VEVENT
UID:57662
DTSTAMP:20260420T063117
DTSTART:20240920T170000
DTEND:20240920T170000
SUMMARY:Taller infantil - Creació història / videojoc amb Scratch
LOCATION:Av. Pau Casals, 26 08450 Llinars del Vallès
METHOD:PUBLISH
X-WR-CALNAME:info@llinarsdelvalles.cat
X-WR-TIMEZONE:Europe/Madrid
DESCRIPTION:A càrrec d'Edukem-nos

URI:https://www.llinarsdelvalles.cat/actualitat/agenda/taller-infantil-creacio-historia--videojoc-amb-scratch.html
CLASS:PUBLIC
END:VEVENT
END:VCALENDAR
