BEGIN:VCALENDAR
VERSION:2.0
CALSCALE:GREGORIAN
PRODID:-//Diputació de Barcelona//DibaCMS//EN
BEGIN:VEVENT
UID:57663
DTSTAMP:20260420T024633
DTSTART:20240824T000000
DTEND:20240825T235900
SUMMARY:Torneig 12 hores slot
LOCATION:Av. Pau Casals, 22-24 (Àrea central) 08450 Llinars del Vallès
METHOD:PUBLISH
X-WR-CALNAME:info@llinarsdelvalles.cat
X-WR-TIMEZONE:Europe/Madrid
DESCRIPTION:
URI:https://www.llinarsdelvalles.cat/actualitat/agenda/torneig-12-hores-slot.html
CLASS:PUBLIC
END:VEVENT
END:VCALENDAR
