BEGIN:VCALENDAR
VERSION:2.0
CALSCALE:GREGORIAN
PRODID:-//Diputació de Barcelona//DibaCMS//EN
BEGIN:VEVENT
UID:57667
DTSTAMP:20260420T024707
DTSTART:20240919T000000
DTEND:20240929T000000
SUMMARY:Concurs-Mostra amateur Tomàs Nogueras
LOCATION:Ronda Sant Antoni, 19 08450 Llinars del Vallès
METHOD:PUBLISH
X-WR-CALNAME:info@llinarsdelvalles.cat
X-WR-TIMEZONE:Europe/Madrid
DESCRIPTION:Entrega de premis i homenatge al Sr. Tomàs Nogueras el divendres 25 d'octubre a les 19 h.

URI:https://www.llinarsdelvalles.cat/actualitat/agenda/concurs-mostra-amateur-tomas-nogueras.html
CLASS:PUBLIC
END:VEVENT
END:VCALENDAR
