BEGIN:VCALENDAR
VERSION:2.0
CALSCALE:GREGORIAN
PRODID:-//Diputació de Barcelona//DibaCMS//EN
BEGIN:VEVENT
UID:57671
DTSTAMP:20260420T022802
DTSTART:20241020T190000
DTEND:20241020T190000
SUMMARY:Música clàssica - Recital per a violí i piano
LOCATION:Ronda Sant Antoni, 19 08450 Llinars del Vallès
METHOD:PUBLISH
X-WR-CALNAME:info@llinarsdelvalles.cat
X-WR-TIMEZONE:Europe/Madrid
DESCRIPTION:Dues intèrprets extraordinàries.

URI:https://www.llinarsdelvalles.cat/actualitat/agenda/musica-classica-recital-per-a-violi-i-piano.html
CLASS:PUBLIC
END:VEVENT
END:VCALENDAR
