BEGIN:VCALENDAR
VERSION:2.0
CALSCALE:GREGORIAN
PRODID:-//Diputació de Barcelona//DibaCMS//EN
BEGIN:VEVENT
UID:57683
DTSTAMP:20260420T011038
DTSTART:20240831T203000
DTEND:20240831T203000
SUMMARY:Soparet i espectacle amb Improshow
LOCATION:08450 Llinars del Vallès
METHOD:PUBLISH
X-WR-CALNAME:info@llinarsdelvalles.cat
X-WR-TIMEZONE:Europe/Madrid
DESCRIPTION:Acte previ de Festa Major 2024

URI:https://www.llinarsdelvalles.cat/actualitat/agenda/soparet-i-espectacle-amb-improshow.html
CLASS:PUBLIC
END:VEVENT
END:VCALENDAR
