BEGIN:VCALENDAR
VERSION:2.0
CALSCALE:GREGORIAN
PRODID:-//Diputació de Barcelona//DibaCMS//EN
BEGIN:VEVENT
UID:57684
DTSTAMP:20260420T075514
DTSTART:20240831T080000
DTEND:20240831T080000
SUMMARY:Esmorzar solidari
LOCATION:Plaça dels Països Catalans. 
METHOD:PUBLISH
X-WR-CALNAME:info@llinarsdelvalles.cat
X-WR-TIMEZONE:Europe/Madrid
DESCRIPTION:Acte previ de Festa Major 2024

URI:https://www.llinarsdelvalles.cat/actualitat/agenda/57684-esmorzar-solidari.html
CLASS:PUBLIC
END:VEVENT
END:VCALENDAR
