BEGIN:VCALENDAR
VERSION:2.0
CALSCALE:GREGORIAN
PRODID:-//Diputació de Barcelona//DibaCMS//EN
BEGIN:VEVENT
UID:57687
DTSTAMP:20260419T224413
DTSTART:20240830T190000
DTEND:20240830T190000
SUMMARY:Xerrada "Els ibers del Turó del Vent, l'arqueologia laietana ibèrica"
LOCATION:Av. Pau Casals, 26 08450 Llinars del Vallès
METHOD:PUBLISH
X-WR-CALNAME:info@llinarsdelvalles.cat
X-WR-TIMEZONE:Europe/Madrid
DESCRIPTION:Acte previ de Festa Major 2024

URI:https://www.llinarsdelvalles.cat/actualitat/agenda/xerrada-els-ibers-del-turo-del-vent-larqueologia-laietana-iberica.html
CLASS:PUBLIC
END:VEVENT
END:VCALENDAR
