BEGIN:VCALENDAR
VERSION:2.0
CALSCALE:GREGORIAN
PRODID:-//Diputació de Barcelona//DibaCMS//EN
BEGIN:VEVENT
UID:57690
DTSTAMP:20260420T030306
DTSTART:20240831T100000
DTEND:20240831T100000
SUMMARY:Visita arqueològica al jaciment Turó del Vent
LOCATION:
METHOD:PUBLISH
X-WR-CALNAME:info@llinarsdelvalles.cat
X-WR-TIMEZONE:Europe/Madrid
DESCRIPTION:Acte previ de Festa Major 2024

URI:https://www.llinarsdelvalles.cat/actualitat/agenda/visita-arqueologica-al-jaciment-turo-del-vent.html
CLASS:PUBLIC
END:VEVENT
END:VCALENDAR
