BEGIN:VCALENDAR
VERSION:2.0
CALSCALE:GREGORIAN
PRODID:-//Diputació de Barcelona//DibaCMS//EN
BEGIN:VEVENT
UID:57691
DTSTAMP:20260419T235734
DTSTART:20240831T170000
DTEND:20240831T170000
SUMMARY:3x3 de bàsquet 
LOCATION:Av. Pau Casals, 18-20 (Àrea central) 08450 Llinars del Vallès
METHOD:PUBLISH
X-WR-CALNAME:info@llinarsdelvalles.cat
X-WR-TIMEZONE:Europe/Madrid
DESCRIPTION:Acte previ de Festa Major 2024

URI:https://www.llinarsdelvalles.cat/actualitat/agenda/3x3-de-basquet-.html
CLASS:PUBLIC
END:VEVENT
END:VCALENDAR
