BEGIN:VCALENDAR
VERSION:2.0
CALSCALE:GREGORIAN
PRODID:-//Diputació de Barcelona//DibaCMS//EN
BEGIN:VEVENT
UID:57692
DTSTAMP:20260420T040928
DTSTART:20240831T180000
DTEND:20240831T204000
SUMMARY:Escape Room "Missió espacial"
LOCATION:C/ Josep Argila, 39 08450 Llinars del Vallés
METHOD:PUBLISH
X-WR-CALNAME:info@llinarsdelvalles.cat
X-WR-TIMEZONE:Europe/Madrid
DESCRIPTION:Acte previ de Festa Major 2024

URI:https://www.llinarsdelvalles.cat/actualitat/agenda/escape-room-missio-espacial.html
CLASS:PUBLIC
END:VEVENT
END:VCALENDAR
