BEGIN:VCALENDAR
VERSION:2.0
CALSCALE:GREGORIAN
PRODID:-//Diputació de Barcelona//DibaCMS//EN
BEGIN:VEVENT
UID:57693
DTSTAMP:20260420T011613
DTSTART:20240831T210000
DTEND:20240831T210000
SUMMARY:Passejada familiar nocturna amb "pintxo" de botifarra
LOCATION:Plaça dels Països Catalans. 
METHOD:PUBLISH
X-WR-CALNAME:info@llinarsdelvalles.cat
X-WR-TIMEZONE:Europe/Madrid
DESCRIPTION:Acte previ de Festa Major 2024

URI:https://www.llinarsdelvalles.cat/actualitat/agenda/passejada-familiar-nocturna-amb-pintxo-de-botifarra.html
CLASS:PUBLIC
END:VEVENT
END:VCALENDAR
