BEGIN:VCALENDAR
VERSION:2.0
CALSCALE:GREGORIAN
PRODID:-//Diputació de Barcelona//DibaCMS//EN
BEGIN:VEVENT
UID:57694
DTSTAMP:20260420T041101
DTSTART:20240831T200000
DTEND:20240831T200000
SUMMARY:Memorial Xavi Alcaraz
LOCATION:Av. Pau Casals, 18-20 (Àrea central) 08450 Llinars del Vallès
METHOD:PUBLISH
X-WR-CALNAME:info@llinarsdelvalles.cat
X-WR-TIMEZONE:Europe/Madrid
DESCRIPTION:Acte previ de Festa Major 2024

URI:https://www.llinarsdelvalles.cat/actualitat/agenda/memorial-xavi-alcaraz.html
CLASS:PUBLIC
END:VEVENT
END:VCALENDAR
