BEGIN:VCALENDAR
VERSION:2.0
CALSCALE:GREGORIAN
PRODID:-//Diputació de Barcelona//DibaCMS//EN
BEGIN:VEVENT
UID:57696
DTSTAMP:20260420T034421
DTSTART:20240901T100000
DTEND:20240901T100000
SUMMARY:Bicicletada
LOCATION:Plaça dels Països Catalans 
METHOD:PUBLISH
X-WR-CALNAME:info@llinarsdelvalles.cat
X-WR-TIMEZONE:Europe/Madrid
DESCRIPTION:Acte previ de Festa Major 2024.

URI:https://www.llinarsdelvalles.cat/actualitat/agenda/bicicletada.html
CLASS:PUBLIC
END:VEVENT
END:VCALENDAR
