BEGIN:VCALENDAR
VERSION:2.0
CALSCALE:GREGORIAN
PRODID:-//Diputació de Barcelona//DibaCMS//EN
BEGIN:VEVENT
UID:57697
DTSTAMP:20260420T022242
DTSTART:20240901T110000
DTEND:20240901T110000
SUMMARY:Baixada de carretons
LOCATION:
METHOD:PUBLISH
X-WR-CALNAME:info@llinarsdelvalles.cat
X-WR-TIMEZONE:Europe/Madrid
DESCRIPTION:Acte previ de Festa Major 2024

URI:https://www.llinarsdelvalles.cat/actualitat/agenda/baixada-de-carretons.html
CLASS:PUBLIC
END:VEVENT
END:VCALENDAR
