BEGIN:VCALENDAR
VERSION:2.0
CALSCALE:GREGORIAN
PRODID:-//Diputació de Barcelona//DibaCMS//EN
BEGIN:VEVENT
UID:57709
DTSTAMP:20260420T224912
DTSTART:20240905T210000
DTEND:20240905T210000
SUMMARY:Nit al carrer
LOCATION:
METHOD:PUBLISH
X-WR-CALNAME:info@llinarsdelvalles.cat
X-WR-TIMEZONE:Europe/Madrid
DESCRIPTION:Diversos bars i restaurants sortiran al carrer i ens oferiran propostes musicals.

URI:https://www.llinarsdelvalles.cat/actualitat/agenda/nit-al-carrer.html
CLASS:PUBLIC
END:VEVENT
END:VCALENDAR
