BEGIN:VCALENDAR
VERSION:2.0
CALSCALE:GREGORIAN
PRODID:-//Diputació de Barcelona//DibaCMS//EN
BEGIN:VEVENT
UID:57711
DTSTAMP:20260424T113430
DTSTART:20240906T100000
DTEND:20240906T100000
SUMMARY:Concurs de Tir de precisió amb aire comprimit
LOCATION:Riera Giola 
METHOD:PUBLISH
X-WR-CALNAME:info@llinarsdelvalles.cat
X-WR-TIMEZONE:Europe/Madrid
DESCRIPTION:Festa Major 2024

URI:https://www.llinarsdelvalles.cat/actualitat/agenda/concurs-de-tir-de-precisio-amb-aire-comprimit.html
CLASS:PUBLIC
END:VEVENT
END:VCALENDAR
