BEGIN:VCALENDAR
VERSION:2.0
CALSCALE:GREGORIAN
PRODID:-//Diputació de Barcelona//DibaCMS//EN
BEGIN:VEVENT
UID:57719
DTSTAMP:20260420T012136
DTSTART:20240906T193000
DTEND:20240906T193000
SUMMARY:Concert de Festa Major a càrrec de La Principal de la Bisbal
LOCATION:Carpa del carrer Frederic Marès 
METHOD:PUBLISH
X-WR-CALNAME:info@llinarsdelvalles.cat
X-WR-TIMEZONE:Europe/Madrid
DESCRIPTION:Festa Major 2024

URI:https://www.llinarsdelvalles.cat/actualitat/agenda/concert-de-festa-major-a-carrec-de-la-principal-de-la-bisbal.html
CLASS:PUBLIC
END:VEVENT
END:VCALENDAR
