BEGIN:VCALENDAR
VERSION:2.0
CALSCALE:GREGORIAN
PRODID:-//Diputació de Barcelona//DibaCMS//EN
BEGIN:VEVENT
UID:57721
DTSTAMP:20260419T235040
DTSTART:20240906T220000
DTEND:20240906T220000
SUMMARY:Exhibició de Balls de Saló
LOCATION:Av. Pau Casals, 22-24 (Àrea central) 08450 Llinars del Vallès
METHOD:PUBLISH
X-WR-CALNAME:info@llinarsdelvalles.cat
X-WR-TIMEZONE:Europe/Madrid
DESCRIPTION:Festa Major 2024

URI:https://www.llinarsdelvalles.cat/actualitat/agenda/57721-exhibicio-de-balls-de-salo.html
CLASS:PUBLIC
END:VEVENT
END:VCALENDAR
