BEGIN:VCALENDAR
VERSION:2.0
CALSCALE:GREGORIAN
PRODID:-//Diputació de Barcelona//DibaCMS//EN
BEGIN:VEVENT
UID:57724
DTSTAMP:20260420T030100
DTSTART:20240907T090000
DTEND:20240907T090000
SUMMARY:Torneig de petanca de Festa Major
LOCATION:08450 Llinars del Vallès
METHOD:PUBLISH
X-WR-CALNAME:info@llinarsdelvalles.cat
X-WR-TIMEZONE:Europe/Madrid
DESCRIPTION:Festa Major 2024

URI:https://www.llinarsdelvalles.cat/actualitat/agenda/57724-torneig-de-petanca-de-festa-major.html
CLASS:PUBLIC
END:VEVENT
END:VCALENDAR
