BEGIN:VCALENDAR
VERSION:2.0
CALSCALE:GREGORIAN
PRODID:-//Diputació de Barcelona//DibaCMS//EN
BEGIN:VEVENT
UID:57726
DTSTAMP:20260419T235437
DTSTART:20240907T090000
DTEND:20240907T090000
SUMMARY:La Milla i la mitja milla de Llinars "VI Memorial Jordi Gual"
LOCATION:
METHOD:PUBLISH
X-WR-CALNAME:info@llinarsdelvalles.cat
X-WR-TIMEZONE:Europe/Madrid
DESCRIPTION:Festa Major 2024

URI:https://www.llinarsdelvalles.cat/actualitat/agenda/la-milla-i-la-mitja-milla-de-llinars-vi-memorial-jordi-gual.html
CLASS:PUBLIC
END:VEVENT
END:VCALENDAR
