BEGIN:VCALENDAR
VERSION:2.0
CALSCALE:GREGORIAN
PRODID:-//Diputació de Barcelona//DibaCMS//EN
BEGIN:VEVENT
UID:57728
DTSTAMP:20260420T023414
DTSTART:20240907T111500
DTEND:20240907T111500
SUMMARY:Lli'n'dansa Blaus i vermells, defenseu el vostre color tot dansant
LOCATION:
METHOD:PUBLISH
X-WR-CALNAME:info@llinarsdelvalles.cat
X-WR-TIMEZONE:Europe/Madrid
DESCRIPTION:Festa Major 2024

URI:https://www.llinarsdelvalles.cat/actualitat/agenda/llindansa-blaus-i-vermells-defenseu-el-vostre-color-tot-dansant.html
CLASS:PUBLIC
END:VEVENT
END:VCALENDAR
