BEGIN:VCALENDAR
VERSION:2.0
CALSCALE:GREGORIAN
PRODID:-//Diputació de Barcelona//DibaCMS//EN
BEGIN:VEVENT
UID:57731
DTSTAMP:20260420T000449
DTSTART:20240907T173000
DTEND:20240907T173000
SUMMARY:Concert infantil "Els superherois i la gran aventura" del grup Pop per Xics
LOCATION:Carpa del C/ Frederic Marès 
METHOD:PUBLISH
X-WR-CALNAME:info@llinarsdelvalles.cat
X-WR-TIMEZONE:Europe/Madrid
DESCRIPTION:Festa Major 2024

URI:https://www.llinarsdelvalles.cat/actualitat/agenda/concert-infantil-els-superherois-i-la-gran-aventura-del-grup-pop-per-xics.html
CLASS:PUBLIC
END:VEVENT
END:VCALENDAR
