BEGIN:VCALENDAR
VERSION:2.0
CALSCALE:GREGORIAN
PRODID:-//Diputació de Barcelona//DibaCMS//EN
BEGIN:VEVENT
UID:57732
DTSTAMP:20260420T074641
DTSTART:20240907T183000
DTEND:20240907T183000
SUMMARY:Tarda bastonera amb la participació de Ball de Bastons de Llinars i un Ball de Bastons convidat
LOCATION:Inici de la cercavila a la plaça dels Països Catalans. Ballada a la plaça Caritg. 
METHOD:PUBLISH
X-WR-CALNAME:info@llinarsdelvalles.cat
X-WR-TIMEZONE:Europe/Madrid
DESCRIPTION:Festa Major 2024

URI:https://www.llinarsdelvalles.cat/actualitat/agenda/tarda-bastonera-amb-la-participacio-de-ball-de-bastons-de-llinars-i-un-ball-de-bastons-convidat.html
CLASS:PUBLIC
END:VEVENT
END:VCALENDAR
