BEGIN:VCALENDAR
VERSION:2.0
CALSCALE:GREGORIAN
PRODID:-//Diputació de Barcelona//DibaCMS//EN
BEGIN:VEVENT
UID:57733
DTSTAMP:20260420T022548
DTSTART:20240907T190000
DTEND:20240907T190000
SUMMARY:Masterclass de zumba
LOCATION:Plaça dels Països Catalans 
METHOD:PUBLISH
X-WR-CALNAME:info@llinarsdelvalles.cat
X-WR-TIMEZONE:Europe/Madrid
DESCRIPTION:Festa Major 2024

URI:https://www.llinarsdelvalles.cat/actualitat/agenda/57733-masterclass-de-zumba.html
CLASS:PUBLIC
END:VEVENT
END:VCALENDAR
