BEGIN:VCALENDAR
VERSION:2.0
CALSCALE:GREGORIAN
PRODID:-//Diputació de Barcelona//DibaCMS//EN
BEGIN:VEVENT
UID:57734
DTSTAMP:20260420T012105
DTSTART:20240907T193000
DTEND:20240907T193000
SUMMARY:Havaneres amb el grup "Les Anxovetes" i rom cremat
LOCATION:Pati de Can Mas Bagà.
En cas de pluja: Pavelló 1 d'octubre. 
METHOD:PUBLISH
X-WR-CALNAME:info@llinarsdelvalles.cat
X-WR-TIMEZONE:Europe/Madrid
DESCRIPTION:Festa Major 2024

URI:https://www.llinarsdelvalles.cat/actualitat/agenda/havaneres-amb-el-grup-les-anxovetes-i-rom-cremat.html
CLASS:PUBLIC
END:VEVENT
END:VCALENDAR
