BEGIN:VCALENDAR
VERSION:2.0
CALSCALE:GREGORIAN
PRODID:-//Diputació de Barcelona//DibaCMS//EN
BEGIN:VEVENT
UID:57738
DTSTAMP:20260419T212746
DTSTART:20240908T080000
DTEND:20240908T080000
SUMMARY:Toc de matinades a càrrec dels grallers de la Colla Gegantera La Patufa i grallers convidats d'arreu del territori
LOCATION:Pels carrers del poble 
METHOD:PUBLISH
X-WR-CALNAME:info@llinarsdelvalles.cat
X-WR-TIMEZONE:Europe/Madrid
DESCRIPTION:Festa Major 2024

URI:https://www.llinarsdelvalles.cat/actualitat/agenda/toc-de-matinades-a-carrec-dels-grallers-de-la-colla-gegantera-la-patufa-i-grallers-convidats-darreu-del-territori.html
CLASS:PUBLIC
END:VEVENT
END:VCALENDAR
