BEGIN:VCALENDAR
VERSION:2.0
CALSCALE:GREGORIAN
PRODID:-//Diputació de Barcelona//DibaCMS//EN
BEGIN:VEVENT
UID:57739
DTSTAMP:20260419T212631
DTSTART:20240908T090000
DTEND:20240908T090000
SUMMARY:Suau despertar a càrrec dels Trabucaires de Llinars i els Trabucaires del Campanar de Benicarló
LOCATION:Pels carrers del poble. 
METHOD:PUBLISH
X-WR-CALNAME:info@llinarsdelvalles.cat
X-WR-TIMEZONE:Europe/Madrid
DESCRIPTION:Festa Major 2024

URI:https://www.llinarsdelvalles.cat/actualitat/agenda/suau-despertar-a-carrec-dels-trabucaires-de-llinars-i-els-trabucaires-del-campanar-de-benicarlo.html
CLASS:PUBLIC
END:VEVENT
END:VCALENDAR
