BEGIN:VCALENDAR
VERSION:2.0
CALSCALE:GREGORIAN
PRODID:-//Diputació de Barcelona//DibaCMS//EN
BEGIN:VEVENT
UID:57741
DTSTAMP:20260419T235055
DTSTART:20240908T110000
DTEND:20240908T110000
SUMMARY:Bicicletada lenta
LOCATION:Riera Giola 
METHOD:PUBLISH
X-WR-CALNAME:info@llinarsdelvalles.cat
X-WR-TIMEZONE:Europe/Madrid
DESCRIPTION:Festa Major 2024

URI:https://www.llinarsdelvalles.cat/actualitat/agenda/bicicletada-lenta.html
CLASS:PUBLIC
END:VEVENT
END:VCALENDAR
