BEGIN:VCALENDAR
VERSION:2.0
CALSCALE:GREGORIAN
PRODID:-//Diputació de Barcelona//DibaCMS//EN
BEGIN:VEVENT
UID:57742
DTSTAMP:20260419T210551
DTSTART:20240908T110000
DTEND:20240908T110000
SUMMARY:Anada a l'ofici
LOCATION:Inici a la plaça de la Vila 
METHOD:PUBLISH
X-WR-CALNAME:info@llinarsdelvalles.cat
X-WR-TIMEZONE:Europe/Madrid
DESCRIPTION:Festa Major 2024

URI:https://www.llinarsdelvalles.cat/actualitat/agenda/anada-a-lofici.html
CLASS:PUBLIC
END:VEVENT
END:VCALENDAR
