BEGIN:VCALENDAR
VERSION:2.0
CALSCALE:GREGORIAN
PRODID:-//Diputació de Barcelona//DibaCMS//EN
BEGIN:VEVENT
UID:57743
DTSTAMP:20260420T012300
DTSTART:20240908T113000
DTEND:20240908T113000
SUMMARY:Missa solemne de Festa Major i ball solemne dels Gegants
LOCATION:Carrer de l'Església, 1 08450 Llinars del Vallès
METHOD:PUBLISH
X-WR-CALNAME:info@llinarsdelvalles.cat
X-WR-TIMEZONE:Europe/Madrid
DESCRIPTION:Festa Major 2024

URI:https://www.llinarsdelvalles.cat/actualitat/agenda/missa-solemne-de-festa-major-i-ball-solemne-dels-gegants.html
CLASS:PUBLIC
END:VEVENT
END:VCALENDAR
