BEGIN:VCALENDAR
VERSION:2.0
CALSCALE:GREGORIAN
PRODID:-//Diputació de Barcelona//DibaCMS//EN
BEGIN:VEVENT
UID:57744
DTSTAMP:20260420T000402
DTSTART:20240908T120000
DTEND:20240908T120000
SUMMARY:Tronada de Festa Major a càrrec de la Pirotècnica Igual 1880
LOCATION:Plaça del Delme. 
METHOD:PUBLISH
X-WR-CALNAME:info@llinarsdelvalles.cat
X-WR-TIMEZONE:Europe/Madrid
DESCRIPTION:Festa Major 2024

URI:https://www.llinarsdelvalles.cat/actualitat/agenda/tronada-de-festa-major-a-carrec-de-la-pirotecnica-igual-1880.html
CLASS:PUBLIC
END:VEVENT
END:VCALENDAR
