BEGIN:VCALENDAR
VERSION:2.0
CALSCALE:GREGORIAN
PRODID:-//Diputació de Barcelona//DibaCMS//EN
BEGIN:VEVENT
UID:57745
DTSTAMP:20260419T235503
DTSTART:20240908T120000
DTEND:20240908T133000
SUMMARY:"Encirca't de circ i moviment" Taller de circ per a infants
LOCATION:Parc dels Corbera 
METHOD:PUBLISH
X-WR-CALNAME:info@llinarsdelvalles.cat
X-WR-TIMEZONE:Europe/Madrid
DESCRIPTION:Festa Major 2024

URI:https://www.llinarsdelvalles.cat/actualitat/agenda/encircat-de-circ-i-moviment-taller-de-circ-per-a-infants.html
CLASS:PUBLIC
END:VEVENT
END:VCALENDAR
