BEGIN:VCALENDAR
VERSION:2.0
CALSCALE:GREGORIAN
PRODID:-//Diputació de Barcelona//DibaCMS//EN
BEGIN:VEVENT
UID:57746
DTSTAMP:20260419T223320
DTSTART:20240908T131500
DTEND:20240908T131500
SUMMARY:Concert vermut a càrrec de La Banda del Gínjol
LOCATION:C/ Josep Argila, 39 08450 Llinars del Vallés
METHOD:PUBLISH
X-WR-CALNAME:info@llinarsdelvalles.cat
X-WR-TIMEZONE:Europe/Madrid
DESCRIPTION:Festa Major 2024

URI:https://www.llinarsdelvalles.cat/actualitat/agenda/concert-vermut-a-carrec-de-la-banda-del-ginjol.html
CLASS:PUBLIC
END:VEVENT
END:VCALENDAR
