BEGIN:VCALENDAR
VERSION:2.0
CALSCALE:GREGORIAN
PRODID:-//Diputació de Barcelona//DibaCMS//EN
BEGIN:VEVENT
UID:57747
DTSTAMP:20260419T235555
DTSTART:20240908T153000
DTEND:20240908T153000
SUMMARY:Migdiada popular
LOCATION:Parc dels Corbera 
METHOD:PUBLISH
X-WR-CALNAME:info@llinarsdelvalles.cat
X-WR-TIMEZONE:Europe/Madrid
DESCRIPTION:Festa Major 2024

URI:https://www.llinarsdelvalles.cat/actualitat/agenda/migdiada-popular.html
CLASS:PUBLIC
END:VEVENT
END:VCALENDAR
