BEGIN:VCALENDAR
VERSION:2.0
CALSCALE:GREGORIAN
PRODID:-//Diputació de Barcelona//DibaCMS//EN
BEGIN:VEVENT
UID:57748
DTSTAMP:20260420T011339
DTSTART:20240908T180000
DTEND:20240908T180000
SUMMARY:El circ de Moguis i Bobas: Riures, equilibri i música en viu
LOCATION:Pineda del Castell Nou 
METHOD:PUBLISH
X-WR-CALNAME:info@llinarsdelvalles.cat
X-WR-TIMEZONE:Europe/Madrid
DESCRIPTION:Festa Major 2024

URI:https://www.llinarsdelvalles.cat/actualitat/agenda/el-circ-de-moguis-i-bobas-riures-equilibri-i-musica-en-viu.html
CLASS:PUBLIC
END:VEVENT
END:VCALENDAR
