BEGIN:VCALENDAR
VERSION:2.0
CALSCALE:GREGORIAN
PRODID:-//Diputació de Barcelona//DibaCMS//EN
BEGIN:VEVENT
UID:57750
DTSTAMP:20260420T023430
DTSTART:20240908T194500
DTEND:20240908T194500
SUMMARY:Lliurament de premis de l'Assassí de la Pastanaga 
LOCATION:Punt d'informació de la Festa Major. 
METHOD:PUBLISH
X-WR-CALNAME:info@llinarsdelvalles.cat
X-WR-TIMEZONE:Europe/Madrid
DESCRIPTION:Festa Major 2024

URI:https://www.llinarsdelvalles.cat/actualitat/agenda/lliurament-de-premis-de-lassassi-de-la-pastanaga-.html
CLASS:PUBLIC
END:VEVENT
END:VCALENDAR
