BEGIN:VCALENDAR
VERSION:2.0
CALSCALE:GREGORIAN
PRODID:-//Diputació de Barcelona//DibaCMS//EN
BEGIN:VEVENT
UID:57751
DTSTAMP:20260419T211928
DTSTART:20240908T200000
DTEND:20240908T200000
SUMMARY:Toc a plegar. Cercavila per acomiadar les figures festives amb la Banda del Gínjol
LOCATION:Inici a la plaça dels Països Catalans 
METHOD:PUBLISH
X-WR-CALNAME:info@llinarsdelvalles.cat
X-WR-TIMEZONE:Europe/Madrid
DESCRIPTION:Festa Major 2024

URI:https://www.llinarsdelvalles.cat/actualitat/agenda/toc-a-plegar-cercavila-per-acomiadar-les-figures-festives-amb-la-banda-del-ginjol.html
CLASS:PUBLIC
END:VEVENT
END:VCALENDAR
